BEGIN:VCALENDAR
VERSION:2.0
PRODID:-//Cadillac Area Adult Literacy Council - ECPv6.11.2.1//NONSGML v1.0//EN
CALSCALE:GREGORIAN
METHOD:PUBLISH
X-WR-CALNAME:Cadillac Area Adult Literacy Council
X-ORIGINAL-URL:http://www.cadillacliteracy.org
X-WR-CALDESC:Events for Cadillac Area Adult Literacy Council
REFRESH-INTERVAL;VALUE=DURATION:PT1H
X-Robots-Tag:noindex
X-PUBLISHED-TTL:PT1H
BEGIN:VTIMEZONE
TZID:UTC
BEGIN:STANDARD
TZOFFSETFROM:+0000
TZOFFSETTO:+0000
TZNAME:UTC
DTSTART:20180101T000000
END:STANDARD
END:VTIMEZONE
BEGIN:VEVENT
DTSTART;TZID=UTC:20220420T170000
DTEND;TZID=UTC:20220420T190000
DTSTAMP:20260422T100933
CREATED:20220408T145649Z
LAST-MODIFIED:20220408T151950Z
UID:882-1650474000-1650481200@www.cadillacliteracy.org
SUMMARY:New Tutor Orientation
DESCRIPTION:Tutor Orientation\nApril 20th 5:00-7:00 PM\nCadillac Library Meeting Room \nAt this meeting we will plan the training times and places whether zoom or in person that will take place last week of April and first week of May. Call (231) 775-6541 and ask for Adult Literacy or email literacydirector@gmail.com to sign up for this training or to inquire about the program. \n\nTutoring takes place in any library or other convenient public place in Wexford\, Missaukee\, Osceola\, and Lake Counties.
URL:http://www.cadillacliteracy.org/event/new-tutor-orientation-2/
LOCATION:Cadillac Wexford Public Library\, 411 South Street\, Cadillac\, MI\, 49601\, United States
END:VEVENT
BEGIN:VEVENT
DTSTART;TZID=UTC:20181003T173000
DTEND;TZID=UTC:20181003T193000
DTSTAMP:20260422T100934
CREATED:20180927T201542Z
LAST-MODIFIED:20180927T201542Z
UID:296-1538587800-1538595000@www.cadillacliteracy.org
SUMMARY:New Tutor Orientation
DESCRIPTION:If you’ve ever been interested in becoming a tutor for our program\, this is a great opportunity to hear what we’re about and how you can help!
URL:http://www.cadillacliteracy.org/event/new-tutor-orientation/
LOCATION:Cadillac Wexford Public Library\, 411 South Street\, Cadillac\, MI\, 49601\, United States
ORGANIZER;CN="Cadillac Area Adult Literacy Council":MAILTO:literacydirector@gmail.com
END:VEVENT
BEGIN:VEVENT
DTSTART;TZID=UTC:20180604T173000
DTEND;TZID=UTC:20180604T193000
DTSTAMP:20260422T100934
CREATED:20180530T012136Z
LAST-MODIFIED:20180530T012136Z
UID:226-1528133400-1528140600@www.cadillacliteracy.org
SUMMARY:Vogel Center ESL Tutoring
DESCRIPTION:
URL:http://www.cadillacliteracy.org/event/vogel-center-esl-tutoring/
LOCATION:Vogel Center Christian Reformed Church\, 1829 E Stoney Corner Road\, McBain\, MI\, 49657
ORGANIZER;CN="Cadillac Area Adult Literacy Council":MAILTO:literacydirector@gmail.com
END:VEVENT
BEGIN:VEVENT
DTSTART;TZID=UTC:20180407T100000
DTEND;TZID=UTC:20180407T143000
DTSTAMP:20260422T100934
CREATED:20180315T154817Z
LAST-MODIFIED:20180315T154817Z
UID:184-1523095200-1523111400@www.cadillacliteracy.org
SUMMARY:New Tutor Training
DESCRIPTION:The Adult Literacy Council of the Friends of the Cadillac Wexford Library will train new tutors and volunteers in two training sessions in April. \nA tutor orientation will be held Wed\, April 4th from 5:00 -7:45 PM. \nThe training continues Saturday\, April 7th from 10:00 AM- 2:30 PM.Both sessions will be held in the large meeting room in the Cadillac Wexford Public Library. \n\nThe Adult Literacy Council provides tutors to help adults improve reading\, writing\, and language skills. \nCall 775-6541 and ask for Adult Literacy or email literacydirector@gmail.com to sign up for this training or to inquire about the program. \nTutoring takes place in any library or other convenient public place in Wexford\, Missaukee\, Osceola\, and Lake Counties.
URL:http://www.cadillacliteracy.org/event/new-tutor-training-2/
LOCATION:Cadillac Wexford Public Library\, 411 South Street\, Cadillac\, MI\, 49601\, United States
ORGANIZER;CN="Cadillac Area Adult Literacy Council":MAILTO:literacydirector@gmail.com
END:VEVENT
END:VCALENDAR